BEGIN:VCALENDAR
VERSION:2.0
PRODID:-//wp-events-plugin.com//7.2.3.1//EN
TZID:Europe/Berlin
X-WR-TIMEZONE:Europe/Berlin
BEGIN:VEVENT
UID:96@anarchistisch.ch
DTSTART;TZID=Europe/Berlin:20180901T100000
DTEND;TZID=Europe/Berlin:20180901T100000
DTSTAMP:20180706T120630Z
URL:https://anarchistisch.ch/agenda/1-sitzung-frauenstreikkoordination-ber
 n/
SUMMARY:1. Sitzung Frauenstreikkoordination Bern
DESCRIPTION:https://www.facebook.com/events/397098194137777/\n\nWir sind ke
 ine organisierte Gruppe. Wir sind Frauen\, Mütter\, Grossmütter\, kinder
 los\, erwerbstätig\, erwerbsabhängig\, pensioniert oder freischaffend. W
 ir alle schmeissen einen Haushalt\, sind kompetente Arbeitnehmerinnen\, en
 gagieren uns für die Gesellschaft\, sorgen uns um unsere Kinder\, unsere 
 Eltern\, um die Natur und unseren Planeten. Wir sind alle rund um die Uhr 
 beschäftigt\, immer gibt es etwas zu tun – es fehlt uns aber nicht nur 
 an Zeit\, sondern auch an Geld\, das wir zugute hätten\, wenn die Gesells
 chaft bloss ein wenig gerechter wäre.\n\nDas allein sind ziemlich triftig
 e Gründe für einen Frauenstreik im Juni 2019.\n\nWir wollen darauf aufme
 rksam machen\, dass sich unser Leben nicht so verändert hat\, wie man uns
  versprochen hat. Wir wollen etwa darüber sprechen\, dass die so genannte
  Vereinbarung von Familie und Beruf in Wirklichkeit eine Doppel- oder Drei
 fachbelastung bedeutet\, die auf dem Rücken der Frauen ausgetragen wird. 
 Wir wollen generell über «Arbeit» nachdenken und aufmerksam darauf mach
 en\, dass der Grossteil der unbezahlten Arbeit – Haushalt\, Kinderbetreu
 ung und die Pflege von Angehörigen – von Frauen bewältigt wird\, unent
 geltlich. Wir wollen eine Diskussion über den 14-wöchigen Mutterschaftsu
 rlaub führen\, der sowohl für Mütter wie auch ihre Kinder unzumutbar ku
 rz ist. Wir wollen über Visionen nachdenken\, die «ein gutes Leben für 
 alle» ermöglichen\, eine gerechte Gesellschaft\, die nicht von – oft s
 innentleerter – Erwerbsarbeit dominiert wird\, der Profitgier und dem Ge
 winnstreben unterworfen. Wir wollen nicht weiterleben\, in einer Welt\, di
 e Reiche reicher macht und dem Grossteil der Menschheit diktiert\, wie zu 
 arbeiten und zu leben ist.\n\nWer sich angesprochen fühlt\, ist herzlich 
 willkommen am Samstag\, 1. September von 10 bis 13 Uhr auf dem Spielplatz 
 Längmuur. Wir sind offen für Eure Inpute\, für Eure Themen\, für Euer 
 Unbehagen\, für Eure Kenntnisse\, für Eure Mithilfe\, für Euer Kommen. 
 Je mehr Frauen wir sind\, desto grösser wird unsere Kraft\, auf die Misss
 tände unserer Gesellschaft hinzuweisen und auf unsere Lösungsansätze au
 fmerksam zu machen. Wir wollen eine solidarische Gesellschaft\, die sich b
 edingungslos um die Schwächsten kümmert\, die anerkennt (und bezahlt)\, 
 was Frauen leisten. So einfach ist das.\n\nWie wollen wir streiken? Wie or
 ganisieren wir uns? Wie können sich möglichst viele Frauen beteiligen? W
 elche Formen von Streik oder Aktion würden wir uns wünschen?\nIn verschi
 edenden Städten\, zum Beispiel in Genf und Lausanne haben schon Treffen s
 tattgefunden um gemeinsam zu diskutieren und sich zu organisieren. Deshalb
  treffen wir uns auch in Bern.
CATEGORIES:Programm Raum Bern
LOCATION:Bern\, Spielplatz Längmuur\, Bern\, Schweiz
X-APPLE-STRUCTURED-LOCATION;VALUE=URI;X-ADDRESS=Spielplatz Längmuur\, Bern
 \, Schweiz;X-APPLE-RADIUS=100;X-TITLE=Bern:geo:0,0
END:VEVENT
BEGIN:VTIMEZONE
TZID:Europe/Berlin
X-LIC-LOCATION:Europe/Berlin
BEGIN:DAYLIGHT
DTSTART:20180325T030000
TZOFFSETFROM:+0100
TZOFFSETTO:+0200
TZNAME:CEST
END:DAYLIGHT
END:VTIMEZONE
END:VCALENDAR