BEGIN:VCALENDAR
VERSION:2.0
PRODID:-//wp-events-plugin.com//7.2.3.1//EN
TZID:Europe/Berlin
X-WR-TIMEZONE:Europe/Berlin
BEGIN:VEVENT
UID:100@anarchistisch.ch
DTSTART;TZID=Europe/Berlin:20180805T110000
DTEND;TZID=Europe/Berlin:20180805T110000
DTSTAMP:20180731T211827Z
URL:https://anarchistisch.ch/agenda/antirepressionstag/
SUMMARY:Antirepressionstag
DESCRIPTION:Briefe Schreiben\, Diskussion\, KüfA und Openairkino am 5. Aug
 ust im Innenhof der Reitschule.\nEs fehlen die Gefangenen!\n\nWeltweit bef
 inden sich unzählige Menschen eingesperrt im Gefängnissystem. Ob ehemali
 ge Mitglieder der Black Panthers in den USA\, Kritiker*innen des Erdogan-R
 egimes in der Türkei\, Gegner*innen des G20-Gipfels in Hamburg oder viele
  Andere: Sie alle haben die Autorität des Staates herausgefordert und wur
 den deswegen eingesperrt.\n\nDas Knastsystem dient zur Abschreckung und ha
 t zum Ziel\, die Inhaftierten physisch und psychisch zu isolieren und zu b
 rechen. Wir wollen uns davon nicht einschüchtern lassen und kämpfen weit
 er gegen den Staat und alle Unterdrückungsformen\, ob ’drinnen’ oder 
 ’draussen’. Deswegen: Kommt zahlreich am Sonntag\, 5. August 2018 in d
 en Innenhof der Reitschule\, um gemeinsam auf verschiedene Wege das Gefän
 gnissystem anzugehen und praktisch Solidarität mit den Gefangenen zu zeig
 en.\n\nProgramm:\n\nAb 11:00 Uhr wird Material zur Verfügung gestellt\, d
 amit wir viele Briefe und Zeichnungen an Gefangene schicken können.\n\nUm
  17:00 Uhr werden wir mit einem Gefährten über Knasterfahrungen und das 
 Knastsystem in der Schweiz diskutieren.\n\nUm 19:00 Uhr gibt es ein lecker
 es veganes Znacht\, bei dem wir im lockeren Rahmen weiter diskutieren kön
 nen.\n\nUm 20:00 Uhr heisst es Openair-Kino-Time. Natürlich nur bei schö
 nem Wetter.\n\nWir sind nicht alle!
CATEGORIES:Programm Raum Bern
LOCATION:Bern\, Reitschule\, Bern\, Schweiz
X-APPLE-STRUCTURED-LOCATION;VALUE=URI;X-ADDRESS=Reitschule\, Bern\, Schweiz
 ;X-APPLE-RADIUS=100;X-TITLE=Bern:geo:0,0
END:VEVENT
BEGIN:VTIMEZONE
TZID:Europe/Berlin
X-LIC-LOCATION:Europe/Berlin
BEGIN:DAYLIGHT
DTSTART:20180325T030000
TZOFFSETFROM:+0100
TZOFFSETTO:+0200
TZNAME:CEST
END:DAYLIGHT
END:VTIMEZONE
END:VCALENDAR