BEGIN:VCALENDAR
VERSION:2.0
PRODID:-//wp-events-plugin.com//7.2.3.1//EN
TZID:Europe/Berlin
X-WR-TIMEZONE:Europe/Berlin
BEGIN:VEVENT
UID:92@anarchistisch.ch
DTSTART;TZID=Europe/Berlin:20180629T200000
DTEND;TZID=Europe/Berlin:20180629T200000
DTSTAMP:20180616T192710Z
URL:https://anarchistisch.ch/agenda/antispeziesistischer-open-air-filmaben
 d/
SUMMARY:Antispeziesistischer Open-Air-Filmabend
DESCRIPTION:20:00 Uhr : vegane Küfa\n21:00 : Film "Pokot"\n\nAntispeziesis
 tisches Open-Air! Vorführung des Films "Pokot" am Freitag\, 29. Juni ab 2
 0:00 Uhr im Zentralpark\, Bern. Für die Befreiung von Mensch und Tier!\nP
 okot\, ein antispeziesistischer Spielfilm\n\nDuszejko\, eine Rentnerin\, l
 ebt isoliert in einem Bergdorf an der Grenze zwischen Polen und Tschechien
 . Duszejko ist charismatisch\, exzentrisch\, astrologiebegeistert und stre
 ng vegetarisch. Eines Nachts entdeckt sie die Leiche ihres Nachbarn. Viele
  Männer sterben auf mysteriöse Weise. Alle waren Säulen der Gemeinschaf
 t\, und alle waren Jäger. Wurden diese Männer von wilden Tieren getötet
 ?
CATEGORIES:Programm Raum Bern
LOCATION:Bern\, Zentralpark\, Bern\, Schweiz
X-APPLE-STRUCTURED-LOCATION;VALUE=URI;X-ADDRESS=Zentralpark\, Bern\, Schwei
 z;X-APPLE-RADIUS=100;X-TITLE=Bern:geo:0,0
END:VEVENT
BEGIN:VTIMEZONE
TZID:Europe/Berlin
X-LIC-LOCATION:Europe/Berlin
BEGIN:DAYLIGHT
DTSTART:20180325T030000
TZOFFSETFROM:+0100
TZOFFSETTO:+0200
TZNAME:CEST
END:DAYLIGHT
END:VTIMEZONE
END:VCALENDAR