BEGIN:VCALENDAR
VERSION:2.0
PRODID:-//wp-events-plugin.com//7.2.3.1//EN
TZID:Europe/Berlin
X-WR-TIMEZONE:Europe/Berlin
BEGIN:VEVENT
UID:94@anarchistisch.ch
DTSTART;TZID=Europe/Berlin:20180705T190000
DTEND;TZID=Europe/Berlin:20180705T190000
DTSTAMP:20180702T142047Z
URL:https://anarchistisch.ch/agenda/aufbau-und-hoffnung-in-rojava-ein-reis
 ebericht/
SUMMARY:Aufbau und Hoffnung in Rojava - Ein Reisebericht
DESCRIPTION:https://www.facebook.com/events/398160674011951/\n\nEin aktuell
 er Bericht aus dem syrischkuridischen Rojava über Frauen und Männer\, di
 e für eine gleichberechtigte Gesellschaft und ein Leben in Freiheit für 
 alle kämpfen.\n\nIn Rojava blüht die Vision einer Gesellschaft\, in der 
 Frauen gleichberechtigt die Gesellschaft mitgestalten und Menschen jeder R
 eligion und Kultur das Recht auf ein Leben in Freiheit\, Frieden und Siche
 rheit haben. Die Herausforderungen sind enorm\, die Verletzungen durch sie
 ben Jahre Krieg tief\, die Sicherheitslage mehr als fragil. Doch im Aufbau
  der Gesundheitsversorgung für alle\, der neuen Schulen und Bildungsinsti
 tute und der basisdemokratischen Strukturen\, in denen die gleichberechtig
 te Beteiligung der Frauen verankert ist\, gehen die kämpferischen Mensche
 n keine Kompromisse ein. Rojava ist Hoffnung\, Herausforderung und Perspek
 tive. Auch\, oder gerade für uns. Maja Hess\, Arzu Güngör und Therese V
 ögeli von medico international schweiz berichten über den Besuch bei den
  Vertriebenen aus Afrin\, das Experiment der Frauen im Frauendorf Jinwar\,
  den Wiederaufbau der zerstörten Stadt Kobane und innovative Ansätze in 
 der Gesundheitsversorgung.\n\nEintritt frei\, Kollekte
CATEGORIES:Programm Raum Bern
LOCATION:Bern\, Infoladen\, Bern\, Schweiz
X-APPLE-STRUCTURED-LOCATION;VALUE=URI;X-ADDRESS=Infoladen\, Bern\, Schweiz;
 X-APPLE-RADIUS=100;X-TITLE=Bern:geo:0,0
END:VEVENT
BEGIN:VTIMEZONE
TZID:Europe/Berlin
X-LIC-LOCATION:Europe/Berlin
BEGIN:DAYLIGHT
DTSTART:20180325T030000
TZOFFSETFROM:+0100
TZOFFSETTO:+0200
TZNAME:CEST
END:DAYLIGHT
END:VTIMEZONE
END:VCALENDAR