BEGIN:VCALENDAR
VERSION:2.0
PRODID:-//wp-events-plugin.com//7.2.3.1//EN
TZID:Europe/Berlin
X-WR-TIMEZONE:Europe/Berlin
BEGIN:VEVENT
UID:116@anarchistisch.ch
DTSTART;TZID=Europe/Berlin:20181113T190000
DTEND;TZID=Europe/Berlin:20181113T190000
DTSTAMP:20181029T080424Z
URL:https://anarchistisch.ch/agenda/blocher-hau-ab-uster-bleibt-solidarisc
 h/
SUMMARY:Blocher hau ab! Uster bleibt solidarisch
DESCRIPTION:https://www.facebook.com/events/486255275189747/\n\n"Ein Dank a
 n Bevölkerung\, Behörden und Soldaten" – das ist Christoph Blochers Po
 sition zum Landesstreik von 1918 und dient als Titel seiner Veranstaltung 
 am 13. November 2018 im Stadthofsaal in Uster. Seine Intervention zum Land
 estreik zeigt die Politik der SVP unter dem Brennglas: Hetze gegen Arbeite
 r*innen im Interesse der Reichen.\nIn einer Zeit\, in der Rechte und Recht
 sextreme Parteien auf dem Vormarsch sind\, ist es wichtig\, deren arbeiter
 *innenfeindliche Politik zu entlarven und sie zu bekämpfen. Dass die SVP\
 , und die Rechte überhaupt\, Politik für die Besitzenden betreibt\, zeig
 t Blocher mit seinem Dank ans Militär sehr deutlich. Die über 250'000 St
 reikenden mit linken Forderungen wurden vom Militär mit Gewalt unterdrüc
 kt. In Grenchen wurden am 14. Novembver 1918 drei Arbeiter von Soldaten er
 schossen\, in Zürich wurde der Handgranatenbefehl erlassen und ebenso auf
  Demonstrierende gefeuert. Diese Gewalt ist ein Beispiel dafür\, was Staa
 t und Kapital bereit sind\, zu tun\, wenn sich Arbeiter*innen zusammenschl
 iessen um für ihre Interessen zu kämpfen. Blocher zieht nun über die Be
 wegung her\, welche für die AHV\, die 48-Stunden-Woche und das Frauenstim
 merecht auf die Strasse ging – wir erinnern uns an die Repression die ih
 nen dafür entgegenschlug. Wer die Geschichte des Landesstreiks für recht
 e Propaganda missbraucht\, hat mit Widerstand zu rechnen! Gehen wir am 13.
  November in Uster gemeinsam auf die Strasse! Gegen Rechte Hetze und für 
 eine solidarische\, klassenlose Gesellschaft!
CATEGORIES:Demo
LOCATION:Uster\, Uster\, Uster\, Schweiz
X-APPLE-STRUCTURED-LOCATION;VALUE=URI;X-ADDRESS=Uster\, Uster\, Schweiz;X-A
 PPLE-RADIUS=100;X-TITLE=Uster:geo:0,0
END:VEVENT
BEGIN:VTIMEZONE
TZID:Europe/Berlin
X-LIC-LOCATION:Europe/Berlin
BEGIN:STANDARD
DTSTART:20181028T020000
TZOFFSETFROM:+0200
TZOFFSETTO:+0100
TZNAME:CET
END:STANDARD
END:VTIMEZONE
END:VCALENDAR