BEGIN:VCALENDAR
VERSION:2.0
PRODID:-//wp-events-plugin.com//7.2.3.1//EN
TZID:Europe/Berlin
X-WR-TIMEZONE:Europe/Berlin
BEGIN:VEVENT
UID:113@anarchistisch.ch
DTSTART;TZID=Europe/Berlin:20181026T190000
DTEND;TZID=Europe/Berlin:20181026T190000
DTSTAMP:20181015T122207Z
URL:https://anarchistisch.ch/agenda/buchvorstellung-die-kurden-ein-volk-zw
 ischen-unterdrueckung-und-rebellion/
SUMMARY:Buchvorstellung: Die Kurden. Ein Volk zwischen Unterdrückung und R
 ebellion
DESCRIPTION:\n\nDie Kurden. Ein Volk zwischen Unterdrückung und RebellionB
 uchvorstellung mit Kerem Schamberger und Michael Meyen\n\n\n\n\n\nWer weis
 s um den Krieg\, den die Regierung in Ankara seit 2015 gegen die Kurd*inne
 n führt? Wer erinnert sich an die Repressionen in den 1990er Jahren? Hier
 zulande kennt man allenfalls die PKK und fragt sich vielleicht verwundert\
 , warum immer noch Tausende mit den Farben und Symbolen dieser „Terroror
 ganisation“ in Europa auf die Strassen gehen. Kerem und Michael zeigen\,
  dass die Verfolgungsgeschichte der Kurd*innen in der Gründungsgeschichte
  der Türkei wurzelt und dass der eigentliche Putsch dort schon 2015 statt
 fand – ein ziviler Putsch durch die AKP. Doch der Westen will sein Bünd
 nis mit dem Erdogan-Regime nicht gefährden und lässt daher eine Bevölke
 rung von 25 Millionen Menschen im Stich.\n\nWir sind für dieses Buch in d
 en Nordirak und nach Rojava\, wo die Kurden versuchen\, etwas Neues aufzub
 auen\, eine neue Form der Demokratie jenseits aller Staatlichkeit. Wir hab
 en in Deutschland Journalistinnen und Wissenschaftler interviewt\, Deutsch
 e\, Türken\, Kurden\, die gegen den Mainstream schwimmen. Und wir haben z
 wei Blickwinkel zusammengebracht: Kerem Schamberger\, halb Deutscher\, hal
 b Türke\, politischer Aktivist und Streiter für Gerechtigkeit\, dem die 
 kurdische Frage schon lange auf den Nägeln brennt\, und Michael Meyen\, a
 ls Ostdeutscher und als Kommunikationswissenschaftler bisher weit weg von 
 dieser Frage\, als gelernter Journalist aber in der Lage\, Schambergers Wi
 ssen in eine lesbare Fassung zu gießen.\n\nBasel: 24. Oktober\, 19:30 Uhr
  Gewerkschaftshaus (Rebgasse 1).Zürich: 25. Oktober\, 19:00 Uhr\, Rote Fa
 brik.Bern: 26. Oktober\, 19:00 Uhr Französische Kirche (Predigergasse 3).
 \n\n\n
CATEGORIES:Programm Raum Bern
LOCATION:Bern\, Französische Kirche\, Bern\, Schweiz
X-APPLE-STRUCTURED-LOCATION;VALUE=URI;X-ADDRESS=Französische Kirche\, Bern
 \, Schweiz;X-APPLE-RADIUS=100;X-TITLE=Bern:geo:0,0
END:VEVENT
BEGIN:VTIMEZONE
TZID:Europe/Berlin
X-LIC-LOCATION:Europe/Berlin
BEGIN:DAYLIGHT
DTSTART:20180325T030000
TZOFFSETFROM:+0100
TZOFFSETTO:+0200
TZNAME:CEST
END:DAYLIGHT
END:VTIMEZONE
END:VCALENDAR