BEGIN:VCALENDAR
VERSION:2.0
PRODID:-//wp-events-plugin.com//7.2.3.1//EN
TZID:Europe/Berlin
X-WR-TIMEZONE:Europe/Berlin
BEGIN:VEVENT
UID:106@anarchistisch.ch
DTSTART;TZID=Europe/Berlin:20180825T000000
DTEND;TZID=Europe/Berlin:20180825T000000
DTSTAMP:20180808T153318Z
URL:https://anarchistisch.ch/agenda/dekadance/
SUMMARY:Dekadance
DESCRIPTION:Wir treffen uns am 25.08.2018 für eine gemeinsame Anreise in Z
 ollikofen oder Olten. Abfahrtszeit und Perron werden zu gegebener Zeit bek
 annt gegeben. Auch der genaue Ort des Raves wird kurz vorher kommuniziert.
 \n\nWir wollen jedoch dafür sorgen\, dass wir uns alle mit einem gewissen
  Komfort die Kante geben können. Es wird also ein Awarenessteam geben\, A
 bfallstationen für deinen Abfall werden da sein und bitte komm nicht auf 
 die Idee ein Ghüderfüürli zu machen oder voll druff „Vrsteckis“ spi
 elen zu gehen. DU BIST FÜR DEIN EIGENES HANDELN VERANTWORTLICH! (auch wen
 n du uhuere vrstriche bist).\n\nALLES AUF KOLLEKTE/RICHTPREISE!!!!! BIER!!
 !! DRINKS!!!!! TECHNO!!!!!DEKADANCE!!!!!Ⓐ\n\n\n\n&nbsp\;
CATEGORIES:Programm Raum Bern
LOCATION:Bern\, Bern\, Bern\, Schweiz
X-APPLE-STRUCTURED-LOCATION;VALUE=URI;X-ADDRESS=Bern\, Bern\, Schweiz;X-APP
 LE-RADIUS=100;X-TITLE=Bern:geo:0,0
END:VEVENT
BEGIN:VTIMEZONE
TZID:Europe/Berlin
X-LIC-LOCATION:Europe/Berlin
BEGIN:DAYLIGHT
DTSTART:20180325T030000
TZOFFSETFROM:+0100
TZOFFSETTO:+0200
TZNAME:CEST
END:DAYLIGHT
END:VTIMEZONE
END:VCALENDAR