BEGIN:VCALENDAR
VERSION:2.0
PRODID:-//wp-events-plugin.com//7.2.3.1//EN
TZID:Europe/Berlin
X-WR-TIMEZONE:Europe/Berlin
BEGIN:VEVENT
UID:98@anarchistisch.ch
DTSTART;TZID=Europe/Berlin:20180728T140000
DTEND;TZID=Europe/Berlin:20180728T140000
DTSTAMP:20180711T083837Z
URL:https://anarchistisch.ch/agenda/demo-fuer-die-abschaffung-der-nutztier
 haltung/
SUMMARY:Demo für die Abschaffung der Nutztierhaltung
DESCRIPTION:\n\nAm 28. Juli 2018 nehmen sich Tierbefreier*innen die Strasse
 n von Bern um für die Abschaffung der Nutztierhaltung zu demonstrieren. D
 ies ist immer noch eine dringende Forderung\, da die Züchtung\, Mästung 
 und Tötung von Milliarden von Tieren alltäglich und «normal» ist.\n\n\
 n\n\n\nSogenannte "Nutztiere" werden systematisch unterdrückt: Die Tiere 
 sind oft ihr ganzes Leben lang eingesperrt\; sie leben dabei unter Umstän
 den\, die ihre individuellen Bedürfnisse komplett missachten. Sie sind ih
 r ganzes Leben der Willkür der Menschen ausgesetzt. Wenn sie für die Wir
 tschaft nicht mehr genug Leistung bringen können oder zu Produkten gemach
 t werden\, werden sie ohne Zweifel getötet. Es kann keine «artgerechte»
  Tierhaltung geben\, egal ob die Käfige grösser sind\, die Tiere mehr Au
 slauf haben oder sie einen «schmerzlosen» Tod haben. Nutztierhaltung ist
  und bleibt problematisch\, deswegen muss sie abgeschafft werden. Artgerec
 ht ist nur die Freiheit.\n\nDieser gewaltvolle Umgang mit «Nutztieren» i
 st möglich\, da wir in einer speziesistischen Gesellschaft leben. Spezies
 ismus bringt Menschen dazu\, sich für überlegen zu halten und zu glauben
 \, dass es nur die Menschheit gibt\, die wirklich wichtig ist\, und dass d
 ie «anderen\, minderwertigen» Wesen daher nur gut sind\, uns zu dienen\,
  da sie nicht zur richtigen Spezies gehören\; sie sind nicht menschlich.\
 n\nEs ist wichtig\, gegen diesen Zustand zu kämpfen und eine antispeziesi
 stische Perspektive einzunehmen. Das bedeutet gleichzeitig\, dass auch ein
  revolutionärer Ansatz notwendig ist. Antispeziesismus muss Teil eines gr
 össeren Kampfes sein. Für uns gibt es kein Ende der Tierausbeutung ohne 
 eine grundlegende Veränderung der Gesellschaft: Abschaffung des Kapitalis
 mus\, Überwindung des Staates\, von sexistischen und rassistischen Verhä
 ltnissen sowie allen anderen Formen von Diskriminierungen zwischen Mensche
 n\, welche Ungerechtigkeit als normal erscheinen lassen.Das bedeutet insbe
 sondere\, dass es innerhalb der Bewegung keinen Platz hat für rechte\, re
 chtsoffene und menschenfeindliche Strömungen. Da sich diese in der Bewegu
 ng immer wieder Raum nehmen können\, ist es notwendig\, sie aktiv zu bek
 ämpfen.\n\nMit diesen Zeilen rufen wir dazu auf\, sich an der Demo zu bet
 eiligen und eine bewegungsübergreifende und revolutionäre Perspektive ei
 nzubringen.Für eine herrschaftsfreie Welt für Mensch und Tier!\n\n\n
CATEGORIES:Demo
LOCATION:Bern\, Waisenhausplatz\, Bern\, Schweiz
X-APPLE-STRUCTURED-LOCATION;VALUE=URI;X-ADDRESS=Waisenhausplatz\, Bern\, Sc
 hweiz;X-APPLE-RADIUS=100;X-TITLE=Bern:geo:0,0
END:VEVENT
BEGIN:VTIMEZONE
TZID:Europe/Berlin
X-LIC-LOCATION:Europe/Berlin
BEGIN:DAYLIGHT
DTSTART:20180325T030000
TZOFFSETFROM:+0100
TZOFFSETTO:+0200
TZNAME:CEST
END:DAYLIGHT
END:VTIMEZONE
END:VCALENDAR