BEGIN:VCALENDAR
VERSION:2.0
PRODID:-//wp-events-plugin.com//7.2.3.1//EN
TZID:Europe/Berlin
X-WR-TIMEZONE:Europe/Berlin
BEGIN:VEVENT
UID:120@anarchistisch.ch
DTSTART;TZID=Europe/Berlin:20181124T150000
DTEND;TZID=Europe/Berlin:20181124T150000
DTSTAMP:20181110T095934Z
URL:https://anarchistisch.ch/agenda/demokratie-wie-weiter/
SUMMARY:Demokratie wie weiter?
DESCRIPTION:Der utopische Workshop mit Zukunftsperspektive.\n\nAktuelle Ent
 wicklungen werfen massive Fragen zur heutigen Demokratiepraxis auf. Hat di
 e so hoch gepriesene Gesellschaftsform bereits ausgedient? Der Zukunftswor
 kshop beschäftigt sich mit dem was zu einer Verbesserung beitragen kann. 
 Auch ohne Realitätscheck\n\n\nAlle vier Jahre wieder... In Thun stehen di
 e Gemeindewahlen am 25.11.18 an. Diesen Moment wollen wir nutzen um uns mi
 t den Möglichkeiten\, Grenzen und Kritik am parlamentarischen Demokratisc
 hen System auseinanderzusetzen.\n\n\n\n\n\nErgibt es Sinn an Wahlen teilzu
 nehmen? Kann "meine Stimme" an eine andere Person\, sogenannte "Volksvertr
 eter*innen" delegiert werden? Legitimiere ich mit der Teilnahme ein System
 \, das mit Wählen gar nicht (wirklich) veränderbar ist? Demgegenüber wo
 llen wir Aktivismus fern von Parlamenten und Parteipolitik beleuchten und 
 als alternative Handlungsform ins Auge fassen.\n\n\n
CATEGORIES:Sonstige
LOCATION:Thun\, AKUT\, Thun\, Schweiz
X-APPLE-STRUCTURED-LOCATION;VALUE=URI;X-ADDRESS=AKUT\, Thun\, Schweiz;X-APP
 LE-RADIUS=100;X-TITLE=Thun:geo:0,0
END:VEVENT
BEGIN:VTIMEZONE
TZID:Europe/Berlin
X-LIC-LOCATION:Europe/Berlin
BEGIN:STANDARD
DTSTART:20181028T020000
TZOFFSETFROM:+0200
TZOFFSETTO:+0100
TZNAME:CET
END:STANDARD
END:VTIMEZONE
END:VCALENDAR