BEGIN:VCALENDAR
VERSION:2.0
PRODID:-//wp-events-plugin.com//7.2.3.1//EN
TZID:Europe/Berlin
X-WR-TIMEZONE:Europe/Berlin
BEGIN:VEVENT
UID:110@anarchistisch.ch
DTSTART;TZID=Europe/Berlin:20180919T190000
DTEND;TZID=Europe/Berlin:20180919T190000
DTSTAMP:20180913T173109Z
URL:https://anarchistisch.ch/agenda/der-lange-arm-der-repression/
SUMMARY:Der lange Arm der Repression
DESCRIPTION:Über die Europäische Union haben sich ihre Mitgliedstaaten za
 hlreiche Möglichkeiten geschaffen\, mit denen Personen über Grenzen hinw
 eg verfolgt werden können. Im Rahmen der Europäischen Ermittlungsanordnu
 ng können Verfolgungsbehörden jeden anderen EU-Staat anweisen\, Hausdurc
 hsuchungen vorzunehmen\, Telefone abzuhören oder Trojaner auf Computer ei
 nzuschleusen. Jetzt soll die Herausgabe von persönlichen Daten auf Server
 n im Internet weltweit vereinfacht werden. Auch die Datenbanken von Polize
 i und Grenzbehörden werden erneuert\, ihre Fingerabdruckdaten in einem so
 genannten Biometrie-Speicher zusammengelegt. Die Datensätze von Geflücht
 eten werden jetzt schon mit Gesichtserkennung durchsucht. Im Schengener In
 formationssystem\, der größten EU-Polizeidatenbank\, an der auch die Sch
 weiz teilnimmt\, sind immer mehr Menschen zur heimlichen Verfolgung oder m
 it einem Europäischen Haftbefehl zur Festnahme ausgeschrieben. Darüber h
 inaus kann über Interpol ein nationaler Haftbefehl an die Kriminalpolizei
 en von 190 Staaten verteilt werden. Schließlich existieren weitere polize
 iliche und geheimdienstliche Netzwerke außerhalb des EU-Rahmens\, in dene
 n sich die Beteiligten zu Operationen und Strategien abstimmen.\n\nDie Ver
 anstaltung wird auf Deutsch stattfinden\, Übersetzung auf Englisch und Fr
 anzösisch möglich.\n\nIn der anarchistischen Infothek Furia ist kein Pla
 tz für diskriminierendes Verhalten. No cops\, no masters.
CATEGORIES:Vortrag
LOCATION:Bern\, Fabrikool\, Bern\, Schweiz
X-APPLE-STRUCTURED-LOCATION;VALUE=URI;X-ADDRESS=Fabrikool\, Bern\, Schweiz;
 X-APPLE-RADIUS=100;X-TITLE=Bern:geo:0,0
END:VEVENT
BEGIN:VTIMEZONE
TZID:Europe/Berlin
X-LIC-LOCATION:Europe/Berlin
BEGIN:DAYLIGHT
DTSTART:20180325T030000
TZOFFSETFROM:+0100
TZOFFSETTO:+0200
TZNAME:CEST
END:DAYLIGHT
END:VTIMEZONE
END:VCALENDAR