BEGIN:VCALENDAR
VERSION:2.0
PRODID:-//wp-events-plugin.com//7.2.3.1//EN
TZID:Europe/Berlin
X-WR-TIMEZONE:Europe/Berlin
BEGIN:VEVENT
UID:112@anarchistisch.ch
DTSTART;TZID=Europe/Berlin:20181109T193000
DTEND;TZID=Europe/Berlin:20181109T193000
DTSTAMP:20181001T172938Z
URL:https://anarchistisch.ch/agenda/erinnern-heisst-kaempfen/
SUMMARY:Erinnern heisst kämpfen
DESCRIPTION:\nAm 9. November 2018 jährt sich zum 80. Mal die Reichspogromn
 acht von 1938. Über Tausend Synagogen und viele jüdische Einrichtungen 
 wurden vom Mob\, angeleitet durch die NSDAP\, zerstört und hunderte Jüd
 *innen getötet. In den folgenden Tagen verschleppten die Nazis 30‘000 j
 üdische Menschen in Konzentrationslager. Dies war der Übergang von der 
 Diskriminierung und Ausgrenzung zur systematischen Verfolgung von sechs Mi
 llionen Jüd*innen. Ebenfalls Ziel der organisierten Vernichtung waren mi
 llionen Angehörige von Bevölkerungsgruppen\, die auch nicht in das natio
 nalsozialistische Menschenbild passten.\nErinnern heisst kämpfen!\n\nAm 9
 . November gehen wir auf die Strassen Berns und gedenken allen Opfern des 
 NS-Regimes. Nie wieder wollen wir solche Ereignisse tatenlos akzeptieren. 
 Wenn wir uns umblicken\, sehen wir eine Welt\, die nicht nur zum Nachdenke
 n auffordert\, sondern zum Handeln.\nDas gesellschaftliche Klima ist vergi
 ftet\; Fremdenfeindlichkeit und rechtsradikales Gedankengut konnten sich w
 ieder bis weit in die Mitte der Gesellschaft etablieren. Systematische Dis
 kriminierung und Angriffe auf Geflüchtete gehören in Europa zur Tagesor
 dnung. An der Grenze zur Festung Europa ertrinken tausende Menschen im Mit
 telmeer oder verdursten in der Wüste. Nationalistische und faschistische
  Parteien und Bewegungen gewinnen immer mehr an Stärke. Dies ist kein Zuf
 all\; Die Geschichte zeigt\, dass die Herrschenden in Zeiten der Krise\, X
 enophobie und Ausgrenzung nicht nur tolerieren\, sondern oftmals vorantrei
 ben. Auf sie ist nie Verlass\, Krieg und Krise sind Teil ihrer Politik.\nF
 ür eine solidarische Zukunft!\n\nAn diesem Abend stehen wir nicht nur ge
 gen menschenfeindliche Ideologien\, sondern auch für eine solidarische Z
 ukunft ein. Wir wollen eine Welt\, die auf gegenseitiger Hilfe basiert\, b
 edürfnisorientiert und nachhaltig produziert. Eine Welt\, in der Mensche
 n im Einklang mit der Natur und ohne Herrschaft untereinander leben. Eine 
 Welt\, in der wir Menschen nicht in Kategorien zwängen und nach diesen be
 werten.\n\nDafür treffen wir uns am Freitag\, 9. November 2018 um 19:30 
 Uhr beim Bahnhofsplatz in Bern. Um 20:00 Uhr werden wir unseren Protest la
 utstark\, bunt und inhaltsbezogen auf die Strasse tragen. Nehmt Familie un
 d Freund*innen mit\, lasst Böller und Pyros zu Hause. Tipp für trotzdem
  Licht: Vergiss deine Taschenlampe nicht!
CATEGORIES:Demo
LOCATION:Bern\, Bahnhofplatz\, Bern\, Schweiz
X-APPLE-STRUCTURED-LOCATION;VALUE=URI;X-ADDRESS=Bahnhofplatz\, Bern\, Schwe
 iz;X-APPLE-RADIUS=100;X-TITLE=Bern:geo:0,0
END:VEVENT
BEGIN:VTIMEZONE
TZID:Europe/Berlin
X-LIC-LOCATION:Europe/Berlin
BEGIN:STANDARD
DTSTART:20181028T020000
TZOFFSETFROM:+0200
TZOFFSETTO:+0100
TZNAME:CET
END:STANDARD
END:VTIMEZONE
END:VCALENDAR