BEGIN:VCALENDAR
VERSION:2.0
PRODID:-//wp-events-plugin.com//7.2.3.1//EN
TZID:Europe/Berlin
X-WR-TIMEZONE:Europe/Berlin
BEGIN:VEVENT
UID:89@anarchistisch.ch
DTSTART;TZID=Europe/Berlin:20180608T210000
DTEND;TZID=Europe/Berlin:20180608T210000
DTSTAMP:20180605T195006Z
URL:https://anarchistisch.ch/agenda/film-deckname-jenny/
SUMMARY:Film Deckname Jenny
DESCRIPTION:https://www.youtube.com/watch?v=uK7tk62l1Z4\n\nJennys anarchist
 ische Bande will nicht mehr zuschauen: Menschen auf der Fluch an den Zäun
 en Europas\, eingesperrt in Lagern. Doch als Jennys Vater deren militante 
 Ambitionen zufällig herausfindet\, muss er sich seiner eigenen Vergangenh
 eit stellen. Der Deckname »Jenny« und dessen klare Zuordnung verschwimmt
  plötzlich umso mehr\, je gefährlicher es für alle Beteiligten wird.\n\
 nEine Geschichte zwischen Liebe und Verrat\, Hoffnung und Resignation\, Wi
 derstand und Freundschaft.\n\nMit anschliessender Diskussion mit der Regis
 seurin und Filmcrew.
CATEGORIES:Programm Raum Bern
LOCATION:Bern\, Kino Reitschule\, Bern\, Schweiz
X-APPLE-STRUCTURED-LOCATION;VALUE=URI;X-ADDRESS=Kino Reitschule\, Bern\, Sc
 hweiz;X-APPLE-RADIUS=100;X-TITLE=Bern:geo:0,0
END:VEVENT
BEGIN:VTIMEZONE
TZID:Europe/Berlin
X-LIC-LOCATION:Europe/Berlin
BEGIN:DAYLIGHT
DTSTART:20180325T030000
TZOFFSETFROM:+0100
TZOFFSETTO:+0200
TZNAME:CEST
END:DAYLIGHT
END:VTIMEZONE
END:VCALENDAR