BEGIN:VCALENDAR
VERSION:2.0
PRODID:-//wp-events-plugin.com//7.2.3.1//EN
TZID:Europe/Berlin
X-WR-TIMEZONE:Europe/Berlin
BEGIN:VEVENT
UID:88@anarchistisch.ch
DTSTART;TZID=Europe/Berlin:20180608T200000
DTEND;TZID=Europe/Berlin:20180608T200000
DTSTAMP:20180528T175354Z
URL:https://anarchistisch.ch/agenda/infosveranstaltung-hambacher-forst/
SUMMARY:Infosveranstaltung Hambacher Forst
DESCRIPTION:Wie jedes Jahr wird RWE ab Herbst im Hambacher Forst weiter rod
 en\, um an die Kohle darunter zu kommen. Seit 5 Jahre wehren sich dagegen 
 Menschen\, indem sie Bäume bewohnen und brauchen Unterstützung. Infos da
 zu am 08.06. im Infoladen Bern.\n\nVor fünf Jahren haben Menschen die ers
 ten Baumhäuser im Hambacher Forst bei Köln gebaut und zu bewohnen begonn
 en\, um gegen seine Abholzung zu protestieren und aufzuhalten. Der Energie
 konzern RWE (Rheinisch-Westfälisches Elektrizitätswerk) will den 12’00
 0 Jahre alten Wald platt machen (und hat es zu grossen Teilen schon getan)
 \, um an die Kohlereserven darunter zu kommen. Mit Hilfe von Polizei und F
 euerwehr lassen sie immer wieder Teile der Besetzung räumen\, und schreck
 en nicht davor zurück\, Leute monatelang in U-Haft zu stecken.\n\nDie Bes
 etzenden sind ein bunt zusammen gemischter Haufen. Jede*r hier hat im einz
 elnen andere Beweggründe\, Motivationen und Aktionsvorstellungen\, aber a
 lle verbindet der Wunsch Ausbeutung von Mensch und Natur entgegenzuwirken.
  Hier leben und wirken Menschen mit den verschiedensten Lebensentwürfen: 
 einige leben seit Jahren ohne Papiere und Geld\, andere studieren während
  sie hier leben und wieder andere lohnarbeiten die Hälfte des Jahres und 
 verbringen die andere Hälfte hier. Der Ort wird dadurch geprägt\, dass v
 iele verschiedene Menschen kommen und gehen\, bauen und kreieren\, kämpfe
 n und leben. Darüber hinaus wird die Aufrechterhaltung der Besetzung durc
 h ein Netzwerk von Unterstützer*innen bestehend aus Anwält*innen und Är
 zt*innen\, Anwohner*innen mit warmen Duschen und einem großen Herz\, und 
 unzähligen Menschen die zwar nicht hier wohnen\, aber von zu Hause aus vi
 eles tun um gegen Braunkohle und für eine gerechtere Welt zu kämpfen.\n\
 nAuch die Rodungssaison 2018/19 wird neue Angriffe bringen\, die organisis
 erten Widerstand erfordern. Hambi bleibt!
CATEGORIES:Programm Raum Bern
LOCATION:Bern\, Infoladen Reitschule\, Bern\, Schweiz
X-APPLE-STRUCTURED-LOCATION;VALUE=URI;X-ADDRESS=Infoladen Reitschule\, Bern
 \, Schweiz;X-APPLE-RADIUS=100;X-TITLE=Bern:geo:0,0
END:VEVENT
BEGIN:VTIMEZONE
TZID:Europe/Berlin
X-LIC-LOCATION:Europe/Berlin
BEGIN:DAYLIGHT
DTSTART:20180325T030000
TZOFFSETFROM:+0100
TZOFFSETTO:+0200
TZNAME:CEST
END:DAYLIGHT
END:VTIMEZONE
END:VCALENDAR