BEGIN:VCALENDAR
VERSION:2.0
PRODID:-//wp-events-plugin.com//7.2.3.1//EN
TZID:Europe/Berlin
X-WR-TIMEZONE:Europe/Berlin
BEGIN:VEVENT
UID:114@anarchistisch.ch
DTSTART;TZID=Europe/Berlin:20181016T183000
DTEND;TZID=Europe/Berlin:20181016T183000
DTSTAMP:20181015T122412Z
URL:https://anarchistisch.ch/agenda/infotour-zur-int-kommune-in-rojava/
SUMMARY:Infotour zur int. Kommune in Rojava
DESCRIPTION:\n\nDienstag 16.10.2018 um 18.30 Uhr.\nInput zum demokratischen
  Konföderalismus\, Jineoloji und dem Aufbau einer staatenlosen Gesellscha
 ft im demokratisch kurdischen Gesellschaftszentrum.\n\nDammstrasse 3\, 450
 0 Solothurn\n\n
CATEGORIES:Sonstige
LOCATION:Solothurn\, Dammstrasse 3\, Solothurn\, Schweiz
X-APPLE-STRUCTURED-LOCATION;VALUE=URI;X-ADDRESS=Dammstrasse 3\, Solothurn\,
  Schweiz;X-APPLE-RADIUS=100;X-TITLE=Solothurn:geo:0,0
END:VEVENT
BEGIN:VTIMEZONE
TZID:Europe/Berlin
X-LIC-LOCATION:Europe/Berlin
BEGIN:DAYLIGHT
DTSTART:20180325T030000
TZOFFSETFROM:+0100
TZOFFSETTO:+0200
TZNAME:CEST
END:DAYLIGHT
END:VTIMEZONE
END:VCALENDAR