BEGIN:VCALENDAR
VERSION:2.0
PRODID:-//wp-events-plugin.com//7.2.3.1//EN
TZID:Europe/Berlin
X-WR-TIMEZONE:Europe/Berlin
BEGIN:VEVENT
UID:107@anarchistisch.ch
DTSTART;TZID=Europe/Berlin:20180908T170000
DTEND;TZID=Europe/Berlin:20180908T170000
DTSTAMP:20180904T173531Z
URL:https://anarchistisch.ch/agenda/infoveranstaltung-zu-den-knastaufstaen
 den-in-den-usa/
SUMMARY:Infoveranstaltung zu den Knastaufständen in den USA
DESCRIPTION:Koordinierter Widerstand gegen die U.S. Gefängnis Sklaverei: E
 in Rückblick auf die Gefängnis- Streiks und wie es weitergeht\n\nObwohl 
 der 13. Zusatzartikel zur Verfassung der Vereinigten Staaten die Sklaverei
  abschaffte\, erlaubt er gleichzeitig die legale Anwendung von Zwangsarbei
 t und die Unterbringung unter unmenschlichen Bedingungen als „eine Bestr
 afung für ein Verbrechen“. Als Folge können die Regierungen des Bundes
  und der Bundesstaaten\, sowie private Gefängnis – Unternehmen\, die ex
 trem grosse und rassifizierte Gefängnisbevölkerung durch Zwangsarbeit au
 sbeuten. Diese Ausbeutung findet mithilfe von Zwangsmitteln und unter miss
 bräuchlichen Bedingungen statt und wird sehr gering oder gar nicht entlö
 hnt. Rebellen im Gefängnis\, zusammen mit Anarchist*innen\, antiautoritä
 ren Arbeits – und Antiknast – Aktivist*innen\, riefen 2016 zu einer la
 ndesweiten Arbeitsniederlegung auf\, damit die Gefängnis – Industrie zu
 m Erliegen kommt. Im Nachgang dieses koordinierten Streiks wurden die Revo
 lten fortgeführt und Bemühungen unternommen\, sich zu organisieren\, um 
 im U.S. Gefängnis – System eine Krise auszulösen. Diese Präsentation 
 wird die Strategien\, Taktiken und Herausforderungen diskutieren\, mit Bei
 trägen von inhaftierten Genoss*innen.\n\nInfoveranstaltung in Bern\, 08.0
 9.2018\, 17:00\nFuria\, anarchistische Infothek Bern\, Fabrikstrasse 16\, 
 Bern
CATEGORIES:Vortrag
LOCATION:Bern\, Fabrikool\, Bern\, Schweiz
X-APPLE-STRUCTURED-LOCATION;VALUE=URI;X-ADDRESS=Fabrikool\, Bern\, Schweiz;
 X-APPLE-RADIUS=100;X-TITLE=Bern:geo:0,0
END:VEVENT
BEGIN:VTIMEZONE
TZID:Europe/Berlin
X-LIC-LOCATION:Europe/Berlin
BEGIN:DAYLIGHT
DTSTART:20180325T030000
TZOFFSETFROM:+0100
TZOFFSETTO:+0200
TZNAME:CEST
END:DAYLIGHT
END:VTIMEZONE
END:VCALENDAR