BEGIN:VCALENDAR
VERSION:2.0
PRODID:-//wp-events-plugin.com//7.2.3.1//EN
TZID:Europe/Berlin
X-WR-TIMEZONE:Europe/Berlin
BEGIN:VEVENT
UID:93@anarchistisch.ch
DTSTART;TZID=Europe/Berlin:20180704T200000
DTEND;TZID=Europe/Berlin:20180704T200000
DTSTAMP:20180621T094218Z
URL:https://anarchistisch.ch/agenda/nog20-info-und-diskussionsveranstaltun
 gen/
SUMMARY:NoG20 Info- und Diskussionsveranstaltungen
DESCRIPTION:Informations- und Diskussionsveranstaltungen zur Welle der Repr
 ession nach dem G20-Gipfel in Hamburg und zur Solidaritätskampagne. Mit N
 oG20-Aktivistinnen von «United We Stand» aus Hamburg.\n\nDas völlig ben
 agelte Spektakel der Mächtigen\, der G20-Gipfel in Hamburg ist ja seit ü
 ber einem Jahr vorbei – vorbei? Nicht wirklich und nicht für Alle. Noch
  immer sitzen sechs der vormals über 50 Menschen in der Justizvollzugsans
 talt Billwerder\, am östlichen Rand Hamburgs ein. Noch immer stehen vier 
 Leute bis voraussichtlich Ende Juli gefühlt fast täglich vor Gericht. Na
 hezu im Wochentakt werden neue G20-Verfahren eröffnet. Über 50 Angeklagt
 e wurden bereits zu saftigen Haftstrafen\, Bewährungsstrafen oder Geldstr
 afen verurteilt. Viele der Anfang Juli über 400 vorübergehend Festgenomm
 enen und Eingeknasteten warten noch auf die Verfahren gegen sie. Wohnungen
 \, Häuser\, Bibliotheken und Projekte wurden und werden durchsucht. Fahnd
 ungsbilder zu hunderten veröffentlicht und eine regelrechte Menschenjagd 
 von Verfolgungsorganen und der Presse veranstaltet.\n\nSeit April passiert
  dies auch im so genannten Ausland. Nicht nur in der Schweiz\, Dänemark\,
  Griechenland\, Spanien und Italien\, sogar in Ländern wie Ungarn\, Belgi
 en und Österreich. Am 28.5.2018 wurden in Frankreich\, Spanien\, Italien 
 und in Bremgarten AG Hausdurchsuchungen veranstaltet\, mit martialischem A
 ufgebot wie Spezialkräften\, vermummten Beamt*innen\, Hunden und was noch
  immer. Das KuZeB z.B. gleich vor den Augen der Anwohner gerazzt.\nZwei G2
 0-Gefangene wurden noch während laufenden Strafprozessen aus der Bundesre
 publik Deutschland ausgewiesen und mit einer 5-jährigen Einreisesperre be
 legt. Dieser Eintrag in das SIS II Schengen-Sperrsystem führt dazu\, dass
  die beiden Nicht-EU-Bürger in kein Land des Schengener-Abkommens mehr ei
 nreisen können. Und dies völlig unabhängig vom Ausgang der gerichtliche
 n Strafverfahren.\n\nSchon zum G20-Gipfel wurden Menschen an der Einreise 
 gehindert und nur im gerichtlichen Eilverfahren ist es den meisten gelunge
 n\, ihr angeblich verbrieftes Recht auf freie Meinungsäusserung\, Versamm
 lungs- und Demonstrationsfreiheit wahrzunehmen.\nEin Jahr nach dem «Gipfe
 l der Hiebe»\, wollen wir euch einen Abend lang von den G20-Gefangenen\, 
 -Angeklagten &amp\; -Verurteilten berichten. Die Solidaritäts-Kampagne «
 United We Stand» vorstellen und besonders über den Kampf gegen Einreises
 perren und Ausweisungsverfügungen erzählen. Sowie\, was das in Zukunft f
 ür uns alle bedeuten könnte. Besonders folgenschwer trifft es Aktivist*i
 nnen aus Nicht-EU-Staaten und Ländern\, die nicht im Schengener-Abkommen 
 sind.\n\nDie NoG20-Aktivistin und Anwältin für Migrationsrecht\, die sei
 nerzeit die Einreisesperren bekämpft hat und sich nun für die grosse Sch
 lacht vor den verschiedenen Verwaltungsgerichten gegen die Ausweisungsverf
 ügungen der Hamburger Ausländerbehörde rüstet\, wird da sein und eine 
 NoG20-Aktivistin\, die sich von Anfang an in der Begleitung und dem Suppor
 t der G20-Gefangenen\, Ex-Gefangenen\, Angeklagten\, ihren Familien und Ge
 noss*innen engagiert.\n\nViele der eingeknasteten NoG20-Aktivist*innen hat
 ten bis dato keinerlei Kontakte oder soziales Umfeld in Hamburg und musste
 n beziehungsweise müssen bis zur Verurteilung in erster Instanz\, zum Tei
 l monatelang in der Stadt bleiben oder zur Berufungsverhandlung wiederkomm
 en. Deren Leute wollen sie natürlich im Knast besuchen\, den Prozessen be
 iwohnen und sie auch in den Berufungsverhandlungen unterstützen. So sind 
 bei all dem Horror der Repression auch wahnsinnig schöne\, wertvolle\, to
 lle\, interessante\, liebevolle und intensive Freundschaften entstanden vo
 n Hamburg über Amsterdam nach Warschau\, von Feltre über Paris und Catan
 ia bis Moskau und andersherum und zurück und überhaupt.\n\nUnited We Sta
 nd!
CATEGORIES:Programm Raum Bern
LOCATION:Bern\, Rössli\, Bern\, Schweiz
X-APPLE-STRUCTURED-LOCATION;VALUE=URI;X-ADDRESS=Rössli\, Bern\, Schweiz;X-
 APPLE-RADIUS=100;X-TITLE=Bern:geo:0,0
END:VEVENT
BEGIN:VTIMEZONE
TZID:Europe/Berlin
X-LIC-LOCATION:Europe/Berlin
BEGIN:DAYLIGHT
DTSTART:20180325T030000
TZOFFSETFROM:+0100
TZOFFSETTO:+0200
TZNAME:CEST
END:DAYLIGHT
END:VTIMEZONE
END:VCALENDAR