BEGIN:VCALENDAR
VERSION:2.0
PRODID:-//wp-events-plugin.com//7.2.3.1//EN
TZID:Europe/Berlin
X-WR-TIMEZONE:Europe/Berlin
BEGIN:VEVENT
UID:117@anarchistisch.ch
DTSTART;TZID=Europe/Berlin:20181124T130000
DTEND;TZID=Europe/Berlin:20181124T130000
DTSTAMP:20181118T162707Z
URL:https://anarchistisch.ch/agenda/pnos-in-basel/
SUMMARY:Kein Messeplatz für Nazis
DESCRIPTION:https://www.facebook.com/events/326976251432489/\n\nDie rechtse
 xtreme PNOS (Partei national orientierter Schweizer) mobilisiert für den 
 24. November nach Basel. Auf dem Messeplatz wollen sie eine Kundgebung „
 gegen den UNO-Migrationspakt“ abhalten. Die Bewilligung von der Polizei 
 haben sie bereits. Die Gegenkundgebung aber wurde verboten bzw. an den wei
 t entfernten Petersplatz verwiesen.\n\nDas nehmen wir nicht hin. Wir wolle
 n nicht\, dass Basel zur Bühne für die Menschenfeinde der PNOS wird. Des
 halb rufen wir alle dazu auf an besagtem Samstag 24. November auf den Mess
 eplatz zu kommen! Verhindern wir diesen Neonazi-Event! Wir besammeln uns u
 m 13:00 (also eine Stunde vor dem Beginn der PNOS-Kundgebung) auf dem Plat
 z\, um als Stadt ein Zeichen gegen rechte Hetze zu setzen.\n\nDafür brauc
 ht es viele Menschen! Es geht uns alle etwas an. Deshalb: Maximal teilen\,
  weitersagen\, aktiv und kreativ werden!\n\n... und halte dich auf dem Lau
 fenden\n\n#baselnazifrei
CATEGORIES:Demo
LOCATION:Basel\, Messeplatz\, Basel\, Schweiz
X-APPLE-STRUCTURED-LOCATION;VALUE=URI;X-ADDRESS=Messeplatz\, Basel\, Schwei
 z;X-APPLE-RADIUS=100;X-TITLE=Basel:geo:0,0
END:VEVENT
BEGIN:VTIMEZONE
TZID:Europe/Berlin
X-LIC-LOCATION:Europe/Berlin
BEGIN:STANDARD
DTSTART:20181028T020000
TZOFFSETFROM:+0200
TZOFFSETTO:+0100
TZNAME:CET
END:STANDARD
END:VTIMEZONE
END:VCALENDAR