BEGIN:VCALENDAR
VERSION:2.0
PRODID:-//wp-events-plugin.com//7.2.3.1//EN
TZID:Europe/Berlin
X-WR-TIMEZONE:Europe/Berlin
BEGIN:VEVENT
UID:108@anarchistisch.ch
DTSTART;TZID=Europe/Berlin:20180922T133000
DTEND;TZID=Europe/Berlin:20180922T160000
DTSTAMP:20180911T185744Z
URL:https://anarchistisch.ch/agenda/revolutionaere-beteiligung-am-frauenst
 reickblock/
SUMMARY:Revolutionäre Beteiligung am Frauen*streikblock!
DESCRIPTION:\n\n22. September 2018 /\n\nAuf zur revolutionären Beteiligung
  am Frauen*streikblock der Lohngleichheitsdemo!\n\nFeministische Anliegen 
 sollen wieder auf die Strasse getragen werden! Am 22. September ist eine s
 chweizweite Demonstration in Bern geplant\, welche von Gewerkschaften\, so
 wie Parteien von links bis in die konservative Mitte aufgerufen wird. Ihr 
 Ziel ist die herrschende Geschlechterdiskriminierung durch die Umsetzung d
 er Lohnungleichheit zu beenden.\nSo weit so gut – diese Forderungen reic
 hen uns aber nicht aus\, denn die Lohnungleichheit stellt für uns nicht d
 ie letzte zu überwindende Ungerechtigkeit für eine befreite Gesellschaft
  dar!\n\nWas geschiet mit dem grossen Teil jener Frauen*\, die nur Teilzei
 t arbeiten können und so immer noch zu wenig Geld zu Verfügung haben? Wa
 s ist mit der Care-Arbeit zu Hause\, die gar nicht erst entlöhnt wird und
  vor allem von Frauen* getragen wird? Was ist mit den Frauen*\, die in and
 eren Ländern für Billiglohn unsere Konsumprodukte herstellen müssen?\n\
 nZudem bleibt die Gewalt an Frauen* nach wie vor Alltag. So hat sich in de
 n vergangenen 20 Jahren die Gewalt an Frauen* im öffentlichen Raum verdre
 ifacht. Während auf der einen Seite auf “Sex sells” gesetzt wird\, so
 llen glechzeitig konservative Frauen*bilder wieder salonhäfig werden. So 
 befindet sich der weibliche Körper weiterhin im Spannungsfeld konservativ
 er und bürgerlicher Kräfte. Solange patriarchale\, kapitalistische und s
 taatliche Machtstrukturen existieren\, bleibt unsere Unterdrückung besteh
 en.\n\nDie Lohnarbeit gehört zu einem System\, dass Profit für einige we
 nige produziert\, während die Meisten als fleissiges Rädchen im System l
 eer ausgehen. Wir wollen aber die Überwindung dieses Systems und eine Wel
 t ohne Machtpositionen und Ausbeutung aller Menschen.\nDeshalb nehmen wir 
 uns mit dem revolutionären Block den Raum für revolutionäre\, antikapit
 alistische und antipatriarchale Inhalte! Wenn du dich auch für eine herrs
 chaftsfreie Welt entscheiden willst\, dann triff dich mit uns um 13.30 Uhr
  beim revolutionären Block auf der Schützenmatte.\n\nDie Demo am 22.09 i
 st erst der Anfang. Wir sind fest entschlossen\, den antipatriarchalen Kam
 pf auf die Strasse zu tragen und die Bewegung zu vergrössern. Nicht nur a
 m 15.09 gegen den Marsch fürs Leben\, heute an der Lohngleichheitsdemo\, 
 sondern auch zukünftig\, wie beispielsweise 2019 beim feministischen Land
 esstreik!\n\nLet’s make feminism a threat again\n\n-Anarchistische Grupp
 e Bern-\n\n\n\n
CATEGORIES:AGB - Veranstaltung
LOCATION:Bern\, Schützenmatte\, Bern\, Schweiz
X-APPLE-STRUCTURED-LOCATION;VALUE=URI;X-ADDRESS=Schützenmatte\, Bern\, Sch
 weiz;X-APPLE-RADIUS=100;X-TITLE=Bern:geo:0,0
END:VEVENT
BEGIN:VTIMEZONE
TZID:Europe/Berlin
X-LIC-LOCATION:Europe/Berlin
BEGIN:DAYLIGHT
DTSTART:20180325T030000
TZOFFSETFROM:+0100
TZOFFSETTO:+0200
TZNAME:CEST
END:DAYLIGHT
END:VTIMEZONE
END:VCALENDAR