BEGIN:VCALENDAR
VERSION:2.0
PRODID:-//wp-events-plugin.com//7.2.3.1//EN
TZID:Europe/Berlin
X-WR-TIMEZONE:Europe/Berlin
BEGIN:VEVENT
UID:95@anarchistisch.ch
DTSTART;TZID=Europe/Berlin:20180703T180000
DTEND;TZID=Europe/Berlin:20180703T180000
DTSTAMP:20180702T142128Z
URL:https://anarchistisch.ch/agenda/solidaritaet-mir-der-pride-in-istanbul
 /
SUMMARY:Solidarität mir der Pride in Istanbul
DESCRIPTION:https://www.facebook.com/events/2063740953892644/\n\nDie Pride 
 in Istanbul wurde verboten und nachdem sich die LGBTQIA* Community dazu en
 tschied\, sie trotzdem stattfinden zu lassen\, wurde sie durch Gewalt und 
 Repression verhindert. Wir solidarisieren uns mit den queeren Menschen in 
 Istanbul und protestieren gegen das autoritäre konservative Regime.\nKomm
 t zahlreich\, bringt eure Genoss*innen\, Freund*innen und Kolleg*innen!
CATEGORIES:Demo
LOCATION:Bern\, Bahnhofplatz\, Bern\, Schweiz
X-APPLE-STRUCTURED-LOCATION;VALUE=URI;X-ADDRESS=Bahnhofplatz\, Bern\, Schwe
 iz;X-APPLE-RADIUS=100;X-TITLE=Bern:geo:0,0
END:VEVENT
BEGIN:VTIMEZONE
TZID:Europe/Berlin
X-LIC-LOCATION:Europe/Berlin
BEGIN:DAYLIGHT
DTSTART:20180325T030000
TZOFFSETFROM:+0100
TZOFFSETTO:+0200
TZNAME:CEST
END:DAYLIGHT
END:VTIMEZONE
END:VCALENDAR