BEGIN:VCALENDAR
VERSION:2.0
PRODID:-//wp-events-plugin.com//7.2.3.1//EN
TZID:Europe/Berlin
X-WR-TIMEZONE:Europe/Berlin
BEGIN:VEVENT
UID:115@anarchistisch.ch
DTSTART;TZID=Europe/Berlin:20181019T191500
DTEND;TZID=Europe/Berlin:20181019T191500
DTSTAMP:20181015T124634Z
URL:https://anarchistisch.ch/agenda/tamara-trifft-jamila-hami-co-vorsitzen
 de-des-heyva-sor/
SUMMARY:Tamara trifft Jamila Hami (Co-Vorsitzende des Heyva Sor)
DESCRIPTION:Am 19. Oktober wird Jamila Hami\, die selbst aus Efrin stammt u
 nd Co-Vorsitzende des Heyva Sor ist\, mit Tamara Funiciello ein Gespräch 
 führen. Jemila Hami ist zuständig für die Heyva Sor in Shehba.\n\nWir w
 erden die Möglichkeit erhalten\, direkt Informationen zur Situation und L
 age in Rojava/Nord-Syrien zu erhalten. Jamila Hami wird über die Besatzun
 g von Efrin\, die aktuelle Lage dort und die Lage in Shehba berichten. Als
  Co-Vorsitzende von Heyva Sor kann sie sehr ausführlich über die Gesundh
 eitssituation in Shehba berichten.\n\nJamila Hami ist mit einer Delegation
  aus Rojava gekommen. Sie ist einer der Frauen\, die berichten wird und un
 s die Möglichkeit gibt\, gezielt Fragen zu stellen und uns über die Situ
 ation\, das Rätesystem\, die Frauen im Rätesystem zu informieren. Auch b
 esteht die Möglichkeit in Erfahrung zu bringen\, wie die Frauen aus unter
 schiedlichen Volks- und Glaubensgemeinschaften zusammen ein System der Dem
 okratie aufbauen.
CATEGORIES:Programm Raum Bern
LOCATION:Bern\, Casa d`Italia\, Bern\, Schweiz
X-APPLE-STRUCTURED-LOCATION;VALUE=URI;X-ADDRESS=Casa d`Italia\, Bern\, Schw
 eiz;X-APPLE-RADIUS=100;X-TITLE=Bern:geo:0,0
END:VEVENT
BEGIN:VTIMEZONE
TZID:Europe/Berlin
X-LIC-LOCATION:Europe/Berlin
BEGIN:DAYLIGHT
DTSTART:20180325T030000
TZOFFSETFROM:+0100
TZOFFSETTO:+0200
TZNAME:CEST
END:DAYLIGHT
END:VTIMEZONE
END:VCALENDAR