BEGIN:VCALENDAR
VERSION:2.0
PRODID:-//wp-events-plugin.com//7.2.3.1//EN
TZID:Europe/Berlin
X-WR-TIMEZONE:Europe/Berlin
BEGIN:VEVENT
UID:99@anarchistisch.ch
DTSTART;TZID=Europe/Berlin:20180802T180000
DTEND;TZID=Europe/Berlin:20180802T180000
DTSTAMP:20180731T211730Z
URL:https://anarchistisch.ch/agenda/velodemo-gegen-den-verkauf-des-fabriko
 ols-2/
SUMMARY:Velodemo gegen den Verkauf des Fabrikools
DESCRIPTION:\n\nEinladung für dich und deine Freund*innen\n\n\n\n\n\nWir l
 aden dich herzlich ein\, mit uns gegen den Verkauf des Fabrikools zu pedal
 ieren. Die Kaufinteressierten werden bis Mitte August ihr Konzept einreich
 en. Doch das Fabrikool wird schon rege genutzt\, anscheinend haben das noc
 h nicht alle mitbekommen. Deshalb sagen wir: "Abfahren!"\n\n\n
CATEGORIES:Demo
LOCATION:Bern\, Fabrikool\, Bern\, Schweiz
X-APPLE-STRUCTURED-LOCATION;VALUE=URI;X-ADDRESS=Fabrikool\, Bern\, Schweiz;
 X-APPLE-RADIUS=100;X-TITLE=Bern:geo:0,0
END:VEVENT
BEGIN:VTIMEZONE
TZID:Europe/Berlin
X-LIC-LOCATION:Europe/Berlin
BEGIN:DAYLIGHT
DTSTART:20180325T030000
TZOFFSETFROM:+0100
TZOFFSETTO:+0200
TZNAME:CEST
END:DAYLIGHT
END:VTIMEZONE
END:VCALENDAR