BEGIN:VCALENDAR
VERSION:2.0
PRODID:-//wp-events-plugin.com//7.2.3.1//EN
TZID:Europe/Berlin
X-WR-TIMEZONE:Europe/Berlin
BEGIN:VEVENT
UID:118@anarchistisch.ch
DTSTART;TZID=Europe/Berlin:20181120T190000
DTEND;TZID=Europe/Berlin:20181120T190000
DTSTAMP:20181110T095758Z
URL:https://anarchistisch.ch/agenda/waehle-nicht/
SUMMARY:Wähle nicht?!
DESCRIPTION:Wähle nicht?! Aufgrund kurzer Videoinputs diskutieren wir übe
 r Sinn und Unsinn von Wahlen und Wahlsystemen.\n\n\nAlle vier Jahre wieder
 ... In Thun stehen die Gemeindewahlen am 25.11.18 an. Diesen Moment wollen
  wir nutzen um uns mit den Möglichkeiten\, Grenzen und Kritik am parlamen
 tarischen Demokratischen System auseinanderzusetzen.\n\n\n\n\n\nErgibt es 
 Sinn an Wahlen teilzunehmen? Kann "meine Stimme" an eine andere Person\, s
 ogenannte "Volksvertreter*innen" delegiert werden? Legitimiere ich mit der
  Teilnahme ein System\, das mit Wählen gar nicht (wirklich) veränderbar 
 ist? Demgegenüber wollen wir Aktivismus fern von Parlamenten und Parteipo
 litik beleuchten und als alternative Handlungsform ins Auge fassen.\n\n\n
CATEGORIES:Sonstige
LOCATION:Thun\, AKUT\, Thun\, Schweiz
X-APPLE-STRUCTURED-LOCATION;VALUE=URI;X-ADDRESS=AKUT\, Thun\, Schweiz;X-APP
 LE-RADIUS=100;X-TITLE=Thun:geo:0,0
END:VEVENT
BEGIN:VTIMEZONE
TZID:Europe/Berlin
X-LIC-LOCATION:Europe/Berlin
BEGIN:STANDARD
DTSTART:20181028T020000
TZOFFSETFROM:+0200
TZOFFSETTO:+0100
TZNAME:CET
END:STANDARD
END:VTIMEZONE
END:VCALENDAR