BEGIN:VCALENDAR
VERSION:2.0
PRODID:-//wp-events-plugin.com//7.2.3.1//EN
TZID:Europe/Berlin
X-WR-TIMEZONE:Europe/Berlin
BEGIN:VEVENT
UID:109@anarchistisch.ch
DTSTART;TZID=Europe/Berlin:20180916T140000
DTEND;TZID=Europe/Berlin:20180916T140000
DTSTAMP:20180913T173007Z
URL:https://anarchistisch.ch/agenda/workshop-bildet-banden-feministische-o
 rganisierung-jetzt/
SUMMARY:Workshop: Bildet Banden – Feministische Organisierung jetzt!
DESCRIPTION:Die kurdische Frauenbewegung hat eine tiefgehende Patriarchatsa
 nalyse aufgestellt\, die nicht nur eine Sexismuskritik formuliert\, sonder
 n jegliche gesellschaftliche Zustände als mit dem Patriarchat zusammenhä
 ngend versteht. Gemeinsam mit vielen feministischen Kämpfen\nweltweit mac
 ht sie uns deutlich\, dass Widerstand gegen die herrschende Ordnung nötig
  und möglich ist.\nWir glauben\, dass wir eine konkrete Utopie brauchen\,
  um unseren Kämpfen eine Perspektive zu geben.\nIm Rahmen der feministisc
 hen Kampagne “Gemeinsam kämpfen! Für Selbstbestimmung und Demokratisch
 e Autonomie” laden wir euch ein\, euch mit uns über unsere verschiedene
 n Erfahrungen und bisherige Praxen auzutauschen und diese zusammen zu refl
 ektieren. Gemeinsam wollen wir mit euch darüber diskutieren\, wie eine fe
 ministische Organisierung aussehen kann\nund was dafür notwendig ist.\nDe
 r Vortrag und die Diskussion ist offen für alle FLTI* Personen
CATEGORIES:Programm Raum Bern
LOCATION:Bern\, Frauen*raum\, Reitschule\, Bern\, Schweiz
X-APPLE-STRUCTURED-LOCATION;VALUE=URI;X-ADDRESS=Frauen*raum\, Reitschule\, 
 Bern\, Schweiz;X-APPLE-RADIUS=100;X-TITLE=Bern:geo:0,0
END:VEVENT
BEGIN:VTIMEZONE
TZID:Europe/Berlin
X-LIC-LOCATION:Europe/Berlin
BEGIN:DAYLIGHT
DTSTART:20180325T030000
TZOFFSETFROM:+0100
TZOFFSETTO:+0200
TZNAME:CEST
END:DAYLIGHT
END:VTIMEZONE
END:VCALENDAR